BEGIN:VCALENDAR
VERSION:2.0
PRODID:-//会員サイト - ECPv6.15.20//NONSGML v1.0//EN
CALSCALE:GREGORIAN
METHOD:PUBLISH
X-WR-CALNAME:会員サイト
X-ORIGINAL-URL:https://miyazaki-st.net/members
X-WR-CALDESC:会員サイト のイベント
REFRESH-INTERVAL;VALUE=DURATION:PT1H
X-Robots-Tag:noindex
X-PUBLISHED-TTL:PT1H
BEGIN:VTIMEZONE
TZID:Asia/Tokyo
BEGIN:STANDARD
TZOFFSETFROM:+0900
TZOFFSETTO:+0900
TZNAME:JST
DTSTART:20250101T000000
END:STANDARD
END:VTIMEZONE
BEGIN:VEVENT
DTSTART;TZID=Asia/Tokyo:20260425T000000
DTEND;TZID=Asia/Tokyo:20260425T235959
DTSTAMP:20260425T023536
CREATED:20260423T194127Z
LAST-MODIFIED:20260423T194329Z
UID:7690-1777075200-1777161599@miyazaki-st.net
SUMMARY:【開催日】第７回失語症の日記念イベント
DESCRIPTION:第７回失語症の日記念イベント\n                \n                     1 MB\n                     0 downloads\n                \n            \n            …\n        \n        \n            ダウンロード
URL:https://miyazaki-st.net/members/event/%e3%80%90%e9%96%8b%e5%82%ac%e6%97%a5%e3%80%91%e7%ac%ac%ef%bc%97%e5%9b%9e%e5%a4%b1%e8%aa%9e%e7%97%87%e3%81%ae%e6%97%a5%e8%a8%98%e5%bf%b5%e3%82%a4%e3%83%99%e3%83%b3%e3%83%88
CATEGORIES:イベント
END:VEVENT
END:VCALENDAR