BEGIN:VCALENDAR
VERSION:2.0
PRODID:-//会員サイト - ECPv6.15.20//NONSGML v1.0//EN
CALSCALE:GREGORIAN
METHOD:PUBLISH
X-WR-CALNAME:会員サイト
X-ORIGINAL-URL:https://miyazaki-st.net/members
X-WR-CALDESC:会員サイト のイベント
REFRESH-INTERVAL;VALUE=DURATION:PT1H
X-Robots-Tag:noindex
X-PUBLISHED-TTL:PT1H
BEGIN:VTIMEZONE
TZID:Asia/Tokyo
BEGIN:STANDARD
TZOFFSETFROM:+0900
TZOFFSETTO:+0900
TZNAME:JST
DTSTART:20250101T000000
END:STANDARD
END:VTIMEZONE
BEGIN:VEVENT
DTSTART;TZID=Asia/Tokyo:20260511T000000
DTEND;TZID=Asia/Tokyo:20260511T235959
DTSTAMP:20260422T041637
CREATED:20260322T051622Z
LAST-MODIFIED:20260322T051623Z
UID:7508-1778457600-1778543999@miyazaki-st.net
SUMMARY:【申込締切】第46回ベルテール教育セミナー「支援者や保護者が身につけるべきディスレクシア支援の基本と実践」
DESCRIPTION:【セミナー名】 \n\n\n\n第46回ベルテール教育セミナー「支援者や保護者が身につけるべきディスレクシア支援の基本と実践」 \n\n\n\n【開催日時】5月13日(水) 10:05～12:00 \n\n\n\n【主催者】一般社団法人 チャイルドライフ \n\n\n\n【実施方式/場所】Zoom(オンライン) +後日オンデマンド配信 \n\n\n\n【当日講師】藤堂栄子先生 (認定NPO法人EDGE会長 有限会社ToDo Planning代表) \n\n\n\n【セミナー概要】5/13(水)10:05-12:00にて、第46回ベルテール教育セミナー「支援者や保護者が身につけるべきディスレクシア支援の基本と実践」をZoomオンラインで開催いたします！ \n\n\n\nディスレクシアは、視覚や聴覚に問題がなく、全体的な知的能力が低くないのにも関わらず、「読む」「書く」といった文字の扱いに困難がある状態を指し、外見からは分かり難い為に誤解を受けやすく、自信を失ったり、不登校や心身の不調に繋がってしまうこともあります。 \n\n\n\n本セミナーでは、指導経験豊富な藤堂栄子先生より、ディスレクシアの基礎的理解から、様々な工夫や取り組み、当事者や家族の思い、最新事情など、基本から実践まで分かりやすく解説していただき、読み書きに困難がある子どもへの具体的な対応例やより良い支援のあり方について、支援者や保護者の皆様と一緒に学びを深め、アイデアを広げていただく、実り多き時間を共有出来ればと思います。 \n\n\n\n療育や支援で日々悩まれている保護者様(ベルテール利用者無料)や、児童指導員、保育士、相談員、教職員、カウンセラー、臨床心理士、医師、看護師、言語聴覚士、理学療法士、作業療法士、研究者など児童発達支援に携わる関係者皆様のご参加をぜひ心よりお待ちしています！ \n\n\n\n【当日プログラム】※10:00までに、最終案内メール記載の視聴用リンク先よりZoomミーティング待合室へお入りください。 \n\n\n\n10:03- 開会挨拶 \n\n\n\n10:05-10:50 講義1[多様な学びに応えるための基本 etc.]\n\n\n\n10:55-11:40 講義2[本来の力を発揮するための実践例 etc.]\n\n\n\n11:45-12:00 質疑応答 総括まとめ \n\n\n\n12:00- 閉会挨拶 \n\n\n\n※上記スケジュールおよび内容は諸事情により急遽変更になる場合がございますので、予めご了承ください \n\n\n\n【受講料】2\,200円 (税込) ※ベルテール利用者およびADC協同組合員は参加無料 ※1名様1アカウント \n\n\n\n【申込期限】2026年5月11日(月) 18:00 \n\n\n\n【定員】20名様 \n\n\n\n【申込方法】https://childlife.gr.jp/education/s-entry/※上記のリンク先から弊所ホームページに入り、お申込みフォームにご入力ください。
URL:https://miyazaki-st.net/members/event/%e3%80%90%e7%94%b3%e8%be%bc%e7%b7%a0%e5%88%87%e3%80%91%e7%ac%ac46%e5%9b%9e%e3%83%99%e3%83%ab%e3%83%86%e3%83%bc%e3%83%ab%e6%95%99%e8%82%b2%e3%82%bb%e3%83%9f%e3%83%8a%e3%83%bc%e3%80%8c%e6%94%af%e6%8f%b4
CATEGORIES:イベント
END:VEVENT
BEGIN:VEVENT
DTSTART;TZID=Asia/Tokyo:20260521T000000
DTEND;TZID=Asia/Tokyo:20260521T235959
DTSTAMP:20260422T041637
CREATED:20260412T025418Z
LAST-MODIFIED:20260412T025419Z
UID:7656-1779321600-1779407999@miyazaki-st.net
SUMMARY:【申込締切】吃音・流暢性障害のある 子どもの基礎的理解と特性をふまえた心理・指導支援
DESCRIPTION:【セミナー名】 \n\n\n\n第233回国治研セミナー吃音・流暢性障害のある 子どもの基礎的理解と特性をふまえた心理・指導支援 \n\n\n\n【開催日時】2026年5月23日(土) 10:00～12:30 \n\n\n\n【主催者】一般社団法人 チャイルドライフ \n\n\n\n【実施方式/場所】Zoom(オンライン) \n\n\n\n【当日講師】飯村大智　先生 (筑波大学人間系（障害科学域） 助教/言語聴覚士 公認心理師 / 修士（情報学） /博士（障害科学） \n\n\n\n【セミナー概要】本年度５月開催国治研セミナー企画をお知らせします！ \n\n\n\n流暢性障害は、言葉を話す際に滑らかに話せない症状や障害です。吃音（児童期発症流暢症）は、最初の一言につまってしまうなど、スムーズに発音できず、話しにくさを感じる発話障害の一つです。本セミナーでは、発達に特性のあるお子さんが言葉に詰まったり、何度も繰り返したりする症状について理解を深めつつ、神経多様性（ニューロダイバーシティ）や，自己権利擁護（セルフ・アドボカシー）をふまえた指導支援についても伺う予定です。 \n\n\n\nSTの方をはじめ児発管や指導員、保育士、心理士の方など、 発達に特性のあるお子さんや障害のあるお子さんへの支援・保育・療育に携わる多職種の方のご参加をお待ちしております。 \n\n\n\n【当日プログラム】09:45-　Zoomミーティング待合室受付開始 　※開始時間の5分前までに受付をお済ませください。 \n\n\n\n10：00-10：50　吃音・流暢性障害および周辺領域への基礎知識11：00-11：50　特性をふまえた心理・指導支援～事例から学ぶ～12：00-12：30 Q&A、意見交換、飯村先生より総括 \n\n\n\n※当日進行状況によりスケジュールが変わる可能性があります。 \n\n\n\n【受講料】4\,400円（消費税込） \n\n\n\n【申込期限】2026年5月21日（木）18:00 \n\n\n\n【定員】50名様 \n\n\n\n【申込方法】https://childlife.gr.jp/education/s-entry/※上記のリンク先から弊所ホームページに入り、お申込みフォームにご入力ください。 \n\n\n\n【問い合わせ先】一般社団法人 チャイルドライフTel: 042-641-5901Fax: 042-657-2111Email: edu@childlife.gr.jpURL: https://childlife.gr.jp/education/
URL:https://miyazaki-st.net/members/event/%e3%80%90%e7%94%b3%e8%be%bc%e7%b7%a0%e5%88%87%e3%80%91%e5%90%83%e9%9f%b3%e3%83%bb%e6%b5%81%e6%9a%a2%e6%80%a7%e9%9a%9c%e5%ae%b3%e3%81%ae%e3%81%82%e3%82%8b-%e5%ad%90%e3%81%a9%e3%82%82%e3%81%ae%e5%9f%ba
CATEGORIES:イベント
END:VEVENT
BEGIN:VEVENT
DTSTART;TZID=Asia/Tokyo:20260529T000000
DTEND;TZID=Asia/Tokyo:20260529T235959
DTSTAMP:20260422T041637
CREATED:20260125T062926Z
LAST-MODIFIED:20260125T062927Z
UID:7432-1780012800-1780099199@miyazaki-st.net
SUMMARY:【申込締切】第１５回　２０２６年度　在宅を支える多職種交流会
DESCRIPTION:第１５回在宅を支える多職種交流会\n                \n                     0.00 KB\n                     1 downloads\n                \n            \n            …\n        \n        \n            ダウンロード
URL:https://miyazaki-st.net/members/event/%e3%80%90%e7%94%b3%e8%be%bc%e7%b7%a0%e5%88%87%e3%80%91%e7%ac%ac%ef%bc%91%ef%bc%95%e5%9b%9e%e3%80%80%ef%bc%92%ef%bc%90%ef%bc%92%ef%bc%96%e5%b9%b4%e5%ba%a6%e3%80%80%e5%9c%a8%e5%ae%85%e3%82%92%e6%94%af
CATEGORIES:イベント
END:VEVENT
BEGIN:VEVENT
DTSTART;TZID=Asia/Tokyo:20260531T000000
DTEND;TZID=Asia/Tokyo:20260531T235959
DTSTAMP:20260422T041637
CREATED:20260419T084359Z
LAST-MODIFIED:20260419T084359Z
UID:7684-1780185600-1780271999@miyazaki-st.net
SUMMARY:【申込締切】深浦元会長の最終講義
DESCRIPTION:深浦元会長の最終講義のご案内\n                \n                     427 KB\n                     1 downloads\n                \n            \n            …\n        \n        \n            ダウンロード\n        \n    \n\n\n\n\n\n\n\n    \n        \n\n    \n\n\n\n\n\n\n\n日時：2026年6月13日（土）13時〜 \n\n\n\n場所：福岡国際医療福祉大学　本館　　　〒814-0001 福岡県福岡市早良区百道浜３丁目６−４０  \n\n\n\n　　　＊大川市ではなく、福岡市で開催いたしますのでご注意ください。 \n\n\n\n\n\n\n\n詳細につきましては、添付のチラシをご参照ください。ご出欠につきましては、５月３１日までに下記URLもしくはチラシよりご回答いただけますと幸いです。URL：https://forms.gle/AXSfmEgeTGGZPNrF6
URL:https://miyazaki-st.net/members/event/%e3%80%90%e7%94%b3%e8%be%bc%e7%b7%a0%e5%88%87%e3%80%91%e6%b7%b1%e6%b5%a6%e5%85%83%e4%bc%9a%e9%95%b7%e3%81%ae%e6%9c%80%e7%b5%82%e8%ac%9b%e7%be%a9
CATEGORIES:イベント
END:VEVENT
END:VCALENDAR