BEGIN:VCALENDAR
VERSION:2.0
PRODID:-//会員サイト - ECPv6.15.20//NONSGML v1.0//EN
CALSCALE:GREGORIAN
METHOD:PUBLISH
X-WR-CALNAME:会員サイト
X-ORIGINAL-URL:https://miyazaki-st.net/members
X-WR-CALDESC:会員サイト のイベント
REFRESH-INTERVAL;VALUE=DURATION:PT1H
X-Robots-Tag:noindex
X-PUBLISHED-TTL:PT1H
BEGIN:VTIMEZONE
TZID:Asia/Tokyo
BEGIN:STANDARD
TZOFFSETFROM:+0900
TZOFFSETTO:+0900
TZNAME:JST
DTSTART:20250101T000000
END:STANDARD
END:VTIMEZONE
BEGIN:VEVENT
DTSTART;TZID=Asia/Tokyo:20260108T000000
DTEND;TZID=Asia/Tokyo:20260108T235959
DTSTAMP:20260423T014935
CREATED:20260102T081233Z
LAST-MODIFIED:20260102T081233Z
UID:7361-1767830400-1767916799@miyazaki-st.net
SUMMARY:【開催日】高次脳機能障害と脳画像の診かたをゼロから学び直す！超入門講座（オンライン開催）
DESCRIPTION:【タイトル】 \n\n\n\n高次脳機能障害と脳画像の診かたをゼロから学び直す！ 超入門講座 （オンライン開催） \n\n\n\n全6回、1回90分（講義70分、質疑応答15分、事務連絡等5分） \n\n\n\n※2026年5月24日（日）23:59まで見逃し配信あり \n\n\n\n【期間】 \n\n\n\n2026年1月8日（木）～2026年5月24日（日） \n\n\n\n【申し込みページ】 \n\n\n\nhttps://compass10.peatix.com \n\n\n\n【形式】 \n\n\n\n完全オンライン(zoom) \n\n\n\n【講師】 \n\n\n\n花田恵介先生 （博士、作業療法士） \n\n\n\n【内容】 \n\n\n\n第1回　2026年1月8日（木）21:00～22:30 \n\n\n\n「後頭葉に関連する高次脳機能障害」　 \n\n\n\n第2回　2026年1月22日（木）21:00～22:30 \n\n\n\n「側頭葉に関連する高次脳機能障害」　　　　　 \n\n\n\n第3回　2026年2月5日（木）21:00～22:30 \n\n\n\n「頭頂葉に関連する高次脳機能障害」　　 \n\n\n\n第4回　2026年2月19日（木）21:00～22:30 \n\n\n\n「前頭葉に関連する高次脳機能障害」　　 \n\n\n\n第5回　2026年3月5日（木）21:00～22:30 \n\n\n\n「右半球に関連する高次脳機能障害」 \n\n\n\n第6回　2026年3月19日（木）21:00～22:30 \n\n\n\n「左半球に関連する高次脳機能障害」 　　　　　　　　　　　  　　　　　　　　　　　 \n\n\n\n【参加費】 \n\n\n\n1講座ずつの受講は2\,000円、シリーズ受講は9\,900円（202５年１２月３１日までの割引料金）となります。なお、資料配布の予定はございませんが、2026年5月24日までの見逃し配信を予定しております。 \n\n\n\n【講師プロフィール】 \n\n\n\n花田　恵介（はなだ けいすけ）先生｜博士、作業療法士 \n\n\n\n【経歴】2005-2017年　兵庫医科大学病院リハビリテーション部 （作業療法士）2017-2021年　穂翔会村田病院リハビリテーション部 （作業療法士）2021-2023年　錦秀会阪和記念病院リハビリテーション部（作業療法士\, 主任）2017年–現在　大阪府立大学総合リハビリテーション学類 非常勤講師2017年–現在　大阪府立大学大学院総合リハビリテーション学研究科 客員研究員【受賞歴】2014年9月　第10回日本神経心理学会　優秀論文賞2019年5月　第6回日本臨床作業療法学会学術集会 最優秀発表賞2021年10月 日本作業療法学会 学術誌「作業療法」第39巻 奨励賞 \n\n\n\n【キャンセルポリシー】 \n\n\n\n原則として、返金は受け付けないものとします。 \n\n\n\n【その他】 \n\n\n\n\n当セミナー事業は適格請求書発行事業者に未登録であるため、適格請求書の発行はできかねます。あらかじめご了承いただければ幸いです。 \n\n\n\n主催：ウェビナー企画　言語聴覚士の羅針盤　 \n\n\n\n\n\n    \n        \n            \n        \n        \n            \n                高次脳機能障害と脳画像の診かたをゼロから学び直す！超入門講座\n                \n                     0.00 KB\n                     5 downloads\n                \n            \n            …\n        \n        \n            ダウンロード
URL:https://miyazaki-st.net/members/event/%e3%80%90%e9%96%8b%e5%82%ac%e6%97%a5%e3%80%91%e9%ab%98%e6%ac%a1%e8%84%b3%e6%a9%9f%e8%83%bd%e9%9a%9c%e5%ae%b3%e3%81%a8%e8%84%b3%e7%94%bb%e5%83%8f%e3%81%ae%e8%a8%ba%e3%81%8b%e3%81%9f%e3%82%92%e3%82%bc
CATEGORIES:イベント
END:VEVENT
BEGIN:VEVENT
DTSTART;TZID=Asia/Tokyo:20260122T000000
DTEND;TZID=Asia/Tokyo:20260122T235959
DTSTAMP:20260423T014936
CREATED:20260102T081423Z
LAST-MODIFIED:20260102T081424Z
UID:7367-1769040000-1769126399@miyazaki-st.net
SUMMARY:【開催日】高次脳機能障害と脳画像の診かたをゼロから学び直す！超入門講座（オンライン開催）
DESCRIPTION:【タイトル】 \n\n\n\n高次脳機能障害と脳画像の診かたをゼロから学び直す！ 超入門講座 （オンライン開催） \n\n\n\n全6回、1回90分（講義70分、質疑応答15分、事務連絡等5分） \n\n\n\n※2026年5月24日（日）23:59まで見逃し配信あり \n\n\n\n【期間】 \n\n\n\n2026年1月8日（木）～2026年5月24日（日） \n\n\n\n【申し込みページ】 \n\n\n\nhttps://compass10.peatix.com \n\n\n\n【形式】 \n\n\n\n完全オンライン(zoom) \n\n\n\n【講師】 \n\n\n\n花田恵介先生 （博士、作業療法士） \n\n\n\n【内容】 \n\n\n\n第1回　2026年1月8日（木）21:00～22:30 \n\n\n\n「後頭葉に関連する高次脳機能障害」　 \n\n\n\n第2回　2026年1月22日（木）21:00～22:30 \n\n\n\n「側頭葉に関連する高次脳機能障害」　　　　　 \n\n\n\n第3回　2026年2月5日（木）21:00～22:30 \n\n\n\n「頭頂葉に関連する高次脳機能障害」　　 \n\n\n\n第4回　2026年2月19日（木）21:00～22:30 \n\n\n\n「前頭葉に関連する高次脳機能障害」　　 \n\n\n\n第5回　2026年3月5日（木）21:00～22:30 \n\n\n\n「右半球に関連する高次脳機能障害」 \n\n\n\n第6回　2026年3月19日（木）21:00～22:30 \n\n\n\n「左半球に関連する高次脳機能障害」 　　　　　　　　　　　  　　　　　　　　　　　 \n\n\n\n【参加費】 \n\n\n\n1講座ずつの受講は2\,000円、シリーズ受講は9\,900円（202５年１２月３１日までの割引料金）となります。なお、資料配布の予定はございませんが、2026年5月24日までの見逃し配信を予定しております。 \n\n\n\n【講師プロフィール】 \n\n\n\n花田　恵介（はなだ けいすけ）先生｜博士、作業療法士 \n\n\n\n【経歴】2005-2017年　兵庫医科大学病院リハビリテーション部 （作業療法士）2017-2021年　穂翔会村田病院リハビリテーション部 （作業療法士）2021-2023年　錦秀会阪和記念病院リハビリテーション部（作業療法士\, 主任）2017年–現在　大阪府立大学総合リハビリテーション学類 非常勤講師2017年–現在　大阪府立大学大学院総合リハビリテーション学研究科 客員研究員【受賞歴】2014年9月　第10回日本神経心理学会　優秀論文賞2019年5月　第6回日本臨床作業療法学会学術集会 最優秀発表賞2021年10月 日本作業療法学会 学術誌「作業療法」第39巻 奨励賞 \n\n\n\n【キャンセルポリシー】 \n\n\n\n原則として、返金は受け付けないものとします。 \n\n\n\n【その他】 \n\n\n\n\n当セミナー事業は適格請求書発行事業者に未登録であるため、適格請求書の発行はできかねます。あらかじめご了承いただければ幸いです。 \n\n\n\n主催：ウェビナー企画　言語聴覚士の羅針盤　 \n\n\n\n\n\n    \n        \n            \n        \n        \n            \n                高次脳機能障害と脳画像の診かたをゼロから学び直す！超入門講座\n                \n                     0.00 KB\n                     5 downloads\n                \n            \n            …\n        \n        \n            ダウンロード
URL:https://miyazaki-st.net/members/event/%e3%80%90%e9%96%8b%e5%82%ac%e6%97%a5%e3%80%91%e9%ab%98%e6%ac%a1%e8%84%b3%e6%a9%9f%e8%83%bd%e9%9a%9c%e5%ae%b3%e3%81%a8%e8%84%b3%e7%94%bb%e5%83%8f%e3%81%ae%e8%a8%ba%e3%81%8b%e3%81%9f%e3%82%92%e3%82%bc-2
CATEGORIES:イベント
END:VEVENT
END:VCALENDAR