BEGIN:VCALENDAR
VERSION:2.0
PRODID:-//会員サイト - ECPv6.15.20//NONSGML v1.0//EN
CALSCALE:GREGORIAN
METHOD:PUBLISH
X-ORIGINAL-URL:https://miyazaki-st.net/members
X-WR-CALDESC:会員サイト のイベント
REFRESH-INTERVAL;VALUE=DURATION:PT1H
X-Robots-Tag:noindex
X-PUBLISHED-TTL:PT1H
BEGIN:VTIMEZONE
TZID:Asia/Tokyo
BEGIN:STANDARD
TZOFFSETFROM:+0900
TZOFFSETTO:+0900
TZNAME:JST
DTSTART:20230101T000000
END:STANDARD
END:VTIMEZONE
BEGIN:VEVENT
DTSTART;TZID=Asia/Tokyo:20240226T000000
DTEND;TZID=Asia/Tokyo:20240226T235959
DTSTAMP:20260424T205528
CREATED:20240212T162556Z
LAST-MODIFIED:20240212T162556Z
UID:5983-1708905600-1708991999@miyazaki-st.net
SUMMARY:【参加締切】令和5年度「介護予防推進コース」研修会
DESCRIPTION:令和5年度「介護予防推進コース」研修会\n                \n                     19.30 KB\n                     1 downloads\n                \n            \n            …\n        \n        \n            ダウンロード
URL:https://miyazaki-st.net/members/event/%e3%80%90%e5%8f%82%e5%8a%a0%e7%b7%a0%e5%88%87%e3%80%91%e4%bb%a4%e5%92%8c5%e5%b9%b4%e5%ba%a6%e3%80%8c%e4%bb%8b%e8%ad%b7%e4%ba%88%e9%98%b2%e6%8e%a8%e9%80%b2%e3%82%b3%e3%83%bc%e3%82%b9%e3%80%8d%e7%a0%94
CATEGORIES:会員向けイベント
END:VEVENT
END:VCALENDAR