BEGIN:VCALENDAR
VERSION:2.0
PRODID:-//会員サイト - ECPv6.15.20//NONSGML v1.0//EN
CALSCALE:GREGORIAN
METHOD:PUBLISH
X-WR-CALNAME:会員サイト
X-ORIGINAL-URL:https://miyazaki-st.net/members
X-WR-CALDESC:会員サイト のイベント
REFRESH-INTERVAL;VALUE=DURATION:PT1H
X-Robots-Tag:noindex
X-PUBLISHED-TTL:PT1H
BEGIN:VTIMEZONE
TZID:Asia/Tokyo
BEGIN:STANDARD
TZOFFSETFROM:+0900
TZOFFSETTO:+0900
TZNAME:JST
DTSTART:20170101T000000
END:STANDARD
END:VTIMEZONE
BEGIN:VEVENT
DTSTART;TZID=Asia/Tokyo:20231119T000000
DTEND;TZID=Asia/Tokyo:20231119T235959
DTSTAMP:20260425T005443
CREATED:20231007T223956Z
LAST-MODIFIED:20231007T223957Z
UID:5588-1700352000-1700438399@miyazaki-st.net
SUMMARY:【開催日】第3回住民公開講座　知っておきたい在宅療養　わたしが選びたい場所
DESCRIPTION:日時：令和5年11月19日（日）13時00分開場～16時00分\n\n\n\n開催方法：会場および YouTube限定配信\n\n\n\n会場：宮崎市郡医師会館講堂 パブリックビュー会場（1市2町）
URL:https://miyazaki-st.net/members/event/%e3%80%90%e9%96%8b%e5%82%ac%e6%97%a5%e3%80%91%e7%ac%ac3%e5%9b%9e%e4%bd%8f%e6%b0%91%e5%85%ac%e9%96%8b%e8%ac%9b%e5%ba%a7%e3%80%80%e7%9f%a5%e3%81%a3%e3%81%a6%e3%81%8a%e3%81%8d%e3%81%9f%e3%81%84%e5%9c%a8
CATEGORIES:イベント
END:VEVENT
BEGIN:VEVENT
DTSTART;TZID=Asia/Tokyo:20230217T000000
DTEND;TZID=Asia/Tokyo:20230217T235959
DTSTAMP:20260425T005443
CREATED:20230203T133636Z
LAST-MODIFIED:20230203T133716Z
UID:5175-1676592000-1676678399@miyazaki-st.net
SUMMARY:【参加締切】総合診療医がデザインする地域での医療介護連携
DESCRIPTION:
URL:https://miyazaki-st.net/members/event/%e3%80%90%e5%8f%82%e5%8a%a0%e7%b7%a0%e5%88%87%e3%80%91%e7%b7%8f%e5%90%88%e8%a8%ba%e7%99%82%e5%8c%bb%e3%81%8c%e3%83%87%e3%82%b6%e3%82%a4%e3%83%b3%e3%81%99%e3%82%8b%e5%9c%b0%e5%9f%9f%e3%81%a7%e3%81%ae
CATEGORIES:イベント
END:VEVENT
BEGIN:VEVENT
DTSTART;TZID=Asia/Tokyo:20220330T193000
DTEND;TZID=Asia/Tokyo:20220330T203000
DTSTAMP:20260425T005443
CREATED:20220227T140108Z
LAST-MODIFIED:20220227T141113Z
UID:4521-1648668600-1648672200@miyazaki-st.net
SUMMARY:令和3年度 第2回地域包括ケア委員会開催
DESCRIPTION:令和3年度 第2回地域包括ケア委員会開催\n                \n                     20.08 KB\n                     14 downloads\n                \n            \n            …\n        \n        \n            ダウンロード
URL:https://miyazaki-st.net/members/event/%e4%bb%a4%e5%92%8c3%e5%b9%b4%e5%ba%a6-%e7%ac%ac2%e5%9b%9e%e5%9c%b0%e5%9f%9f%e5%8c%85%e6%8b%ac%e3%82%b1%e3%82%a2%e5%a7%94%e5%93%a1%e4%bc%9a%e9%96%8b%e5%82%ac
CATEGORIES:会員向けイベント
END:VEVENT
BEGIN:VEVENT
DTSTART;TZID=Asia/Tokyo:20220320T193000
DTEND;TZID=Asia/Tokyo:20220320T203000
DTSTAMP:20260425T005443
CREATED:20220227T140739Z
LAST-MODIFIED:20220228T121756Z
UID:4528-1647804600-1647808200@miyazaki-st.net
SUMMARY:令和3年度 地域ケア会議助言者育成研修会
DESCRIPTION:令和3年度 地域ケア会議助言者育成研修会\n                \n                     20.19 KB\n                     21 downloads\n                \n            \n            …\n        \n        \n            ダウンロード
URL:https://miyazaki-st.net/members/event/%e4%bb%a4%e5%92%8c3%e5%b9%b4%e5%ba%a6-%e5%9c%b0%e5%9f%9f%e3%82%b1%e3%82%a2%e4%bc%9a%e8%ad%b0%e5%8a%a9%e8%a8%80%e8%80%85%e8%82%b2%e6%88%90%e7%a0%94%e4%bf%ae%e4%bc%9a
CATEGORIES:会員向けイベント
END:VEVENT
BEGIN:VEVENT
DTSTART;TZID=Asia/Tokyo:20220207T000000
DTEND;TZID=Asia/Tokyo:20220218T235959
DTSTAMP:20260425T005443
CREATED:20220203T092618Z
LAST-MODIFIED:20220203T092622Z
UID:4442-1644192000-1645228799@miyazaki-st.net
SUMMARY:厚生労働省 令和 3 年度老人保健健康増進等事業
DESCRIPTION:地域リハビリテーション研修会 動画配信\n\n\n\n\n\n\n\n    \n        \n            \n        \n        \n            \n                厚生労働省 令和3年度老人保健健康増進等事業\n                \n                     0.00 KB\n                     6 downloads\n                \n            \n            …\n        \n        \n            ダウンロード
URL:https://miyazaki-st.net/members/event/%e5%8e%9a%e7%94%9f%e5%8a%b4%e5%83%8d%e7%9c%81-%e4%bb%a4%e5%92%8c-3-%e5%b9%b4%e5%ba%a6%e8%80%81%e4%ba%ba%e4%bf%9d%e5%81%a5%e5%81%a5%e5%ba%b7%e5%a2%97%e9%80%b2%e7%ad%89%e4%ba%8b%e6%a5%ad
CATEGORIES:イベント
END:VEVENT
BEGIN:VEVENT
DTSTART;TZID=Asia/Tokyo:20210731T130000
DTEND;TZID=Asia/Tokyo:20210731T130000
DTSTAMP:20260425T005443
CREATED:20210723T095302Z
LAST-MODIFIED:20210723T095302Z
UID:4138-1627736400-1627736400@miyazaki-st.net
SUMMARY:令和3年度　第1回地域包括ケア委員会
DESCRIPTION:ダウンロード [23.22 KB]
URL:https://miyazaki-st.net/members/event/%e4%bb%a4%e5%92%8c3%e5%b9%b4%e5%ba%a6%e3%80%80%e7%ac%ac1%e5%9b%9e%e5%9c%b0%e5%9f%9f%e5%8c%85%e6%8b%ac%e3%82%b1%e3%82%a2%e5%a7%94%e5%93%a1%e4%bc%9a
CATEGORIES:会員向けイベント
END:VEVENT
BEGIN:VEVENT
DTSTART;VALUE=DATE:20210213
DTEND;VALUE=DATE:20210222
DTSTAMP:20260425T005443
CREATED:20210214T092127Z
LAST-MODIFIED:20210214T092127Z
UID:3921-1613174400-1613951999@miyazaki-st.net
SUMMARY:行政職員向け地域リハビリテーション研修会（動画配信）
DESCRIPTION:Loading...\n						\n					\n					\n						\n							\n							Taking too long?\n						\n						\n							\n								 Reload document							\n							|\n							\n								 Open in new tab							\n					\n				\n			\n		ダウンロード [2.87 MB]
URL:https://miyazaki-st.net/members/event/%e8%a1%8c%e6%94%bf%e8%81%b7%e5%93%a1%e5%90%91%e3%81%91%e5%9c%b0%e5%9f%9f%e3%83%aa%e3%83%8f%e3%83%93%e3%83%aa%e3%83%86%e3%83%bc%e3%82%b7%e3%83%a7%e3%83%b3%e7%a0%94%e4%bf%ae%e4%bc%9a%ef%bc%88%e5%8b%95
CATEGORIES:イベント
END:VEVENT
BEGIN:VEVENT
DTSTART;TZID=Asia/Tokyo:20200125T133000
DTEND;TZID=Asia/Tokyo:20200125T170000
DTSTAMP:20260425T005443
CREATED:20191215T100943Z
LAST-MODIFIED:20191215T100943Z
UID:3427-1579959000-1579971600@miyazaki-st.net
SUMMARY:令和元年度　地域のちから・リハビリテーション機能強化推進事業
DESCRIPTION:地域ケア会議研修会\n第10回訪問リハビリテーション実務者研修会\nダウンロード [26.85 KB]
URL:https://miyazaki-st.net/members/event/%e4%bb%a4%e5%92%8c%e5%85%83%e5%b9%b4%e5%ba%a6%e3%80%80%e5%9c%b0%e5%9f%9f%e3%81%ae%e3%81%a1%e3%81%8b%e3%82%89%e3%83%bb%e3%83%aa%e3%83%8f%e3%83%93%e3%83%aa%e3%83%86%e3%83%bc%e3%82%b7%e3%83%a7%e3%83%b3
LOCATION:JA・AZM\, 宮崎県宮崎市霧島１丁目１−１
CATEGORIES:イベント
END:VEVENT
BEGIN:VEVENT
DTSTART;TZID=Asia/Tokyo:20181216T093000
DTEND;TZID=Asia/Tokyo:20181216T170000
DTSTAMP:20260425T005443
CREATED:20181029T163335Z
LAST-MODIFIED:20181029T163335Z
UID:2566-1544952600-1544979600@miyazaki-st.net
SUMMARY:平成30年度　地域のちから・リハビリテーション機能強化推進事業　介護予防研修会
DESCRIPTION:ダウンロード [40.69 KB]
URL:https://miyazaki-st.net/members/event/%e5%b9%b3%e6%88%9030%e5%b9%b4%e5%ba%a6%e3%80%80%e5%9c%b0%e5%9f%9f%e3%81%ae%e3%81%a1%e3%81%8b%e3%82%89%e3%83%bb%e3%83%aa%e3%83%8f%e3%83%93%e3%83%aa%e3%83%86%e3%83%bc%e3%82%b7%e3%83%a7%e3%83%b3-2
LOCATION:宮崎グリーンホテル\, 宮崎県宮崎市大橋２丁目３６−１
CATEGORIES:イベント
END:VEVENT
BEGIN:VEVENT
DTSTART;TZID=Asia/Tokyo:20181201T130000
DTEND;TZID=Asia/Tokyo:20181201T160000
DTSTAMP:20260425T005443
CREATED:20181029T163135Z
LAST-MODIFIED:20181029T163135Z
UID:2563-1543669200-1543680000@miyazaki-st.net
SUMMARY:平成30年度　地域のちから・リハビリテーション機能強化推進事業　介護予防研修会
DESCRIPTION:ダウンロード [40.69 KB]
URL:https://miyazaki-st.net/members/event/%e5%b9%b3%e6%88%9030%e5%b9%b4%e5%ba%a6%e3%80%80%e5%9c%b0%e5%9f%9f%e3%81%ae%e3%81%a1%e3%81%8b%e3%82%89%e3%83%bb%e3%83%aa%e3%83%8f%e3%83%93%e3%83%aa%e3%83%86%e3%83%bc%e3%82%b7%e3%83%a7%e3%83%b3%e6%a9%9f
LOCATION:宮崎県総合保健センター　５階大研修室\, 宮崎県宮崎市霧島１丁目１－２
CATEGORIES:イベント
END:VEVENT
END:VCALENDAR