BEGIN:VCALENDAR
VERSION:2.0
PRODID:-//会員サイト - ECPv6.15.20//NONSGML v1.0//EN
CALSCALE:GREGORIAN
METHOD:PUBLISH
X-WR-CALNAME:会員サイト
X-ORIGINAL-URL:https://miyazaki-st.net/members
X-WR-CALDESC:会員サイト のイベント
REFRESH-INTERVAL;VALUE=DURATION:PT1H
X-Robots-Tag:noindex
X-PUBLISHED-TTL:PT1H
BEGIN:VTIMEZONE
TZID:Asia/Tokyo
BEGIN:STANDARD
TZOFFSETFROM:+0900
TZOFFSETTO:+0900
TZNAME:JST
DTSTART:20210101T000000
END:STANDARD
END:VTIMEZONE
BEGIN:VEVENT
DTSTART;TZID=Asia/Tokyo:20220211T080000
DTEND;TZID=Asia/Tokyo:20220211T170000
DTSTAMP:20260426T124058
CREATED:20220211T135723Z
LAST-MODIFIED:20220211T135727Z
UID:4475-1644566400-1644598800@miyazaki-st.net
SUMMARY:日本離床学会主催　教育講座
DESCRIPTION:苦手を克服！酸素療法・人工呼吸器の基礎と呼吸アセスメント \n\n\n\n日時：2022年4月30日 (土)　10：00-16：10会場：インターネット生ライブ中継講師：黒田 智也 先生 (日本離床研究会 学術研究部）受講費：一般 9\,800円 (税込)　会員8\,800円 (税込) \n\n\n\n内容：メディカルスタッフ必須の知識をすべて“臨床のコツ”で学ぶ実践プログラム \n\n\n\n申込み：ホームページよりオンラインで申込みHP: https://www.rishou.org/問合せ：日本離床学会事務局　TEL: 03-3556-5585
URL:https://miyazaki-st.net/members/event/%e6%97%a5%e6%9c%ac%e9%9b%a2%e5%ba%8a%e5%ad%a6%e4%bc%9a%e4%b8%bb%e5%82%ac%e3%80%80%e6%95%99%e8%82%b2%e8%ac%9b%e5%ba%a7-19
CATEGORIES:イベント
END:VEVENT
END:VCALENDAR