BEGIN:VCALENDAR
VERSION:2.0
PRODID:-//会員サイト - ECPv6.15.20//NONSGML v1.0//EN
CALSCALE:GREGORIAN
METHOD:PUBLISH
X-WR-CALNAME:会員サイト
X-ORIGINAL-URL:https://miyazaki-st.net/members
X-WR-CALDESC:会員サイト のイベント
REFRESH-INTERVAL;VALUE=DURATION:PT1H
X-Robots-Tag:noindex
X-PUBLISHED-TTL:PT1H
BEGIN:VTIMEZONE
TZID:Asia/Tokyo
BEGIN:STANDARD
TZOFFSETFROM:+0900
TZOFFSETTO:+0900
TZNAME:JST
DTSTART:20220101T000000
END:STANDARD
END:VTIMEZONE
BEGIN:VEVENT
DTSTART;TZID=Asia/Tokyo:20230217T000000
DTEND;TZID=Asia/Tokyo:20230217T235959
DTSTAMP:20260425T021547
CREATED:20221209T145225Z
LAST-MODIFIED:20230120T121701Z
UID:5013-1676592000-1676678399@miyazaki-st.net
SUMMARY:【参加締切】2022年度 宮崎県言語聴覚士会 生涯学習プログラムポイント取得研修会
DESCRIPTION:ダウンロード
URL:https://miyazaki-st.net/members/event/2022%e5%b9%b4%e5%ba%a6-%e5%ae%ae%e5%b4%8e%e7%9c%8c%e8%a8%80%e8%aa%9e%e8%81%b4%e8%a6%9a%e5%a3%ab%e4%bc%9a-%e7%94%9f%e6%b6%af%e5%ad%a6%e7%bf%92%e3%83%97%e3%83%ad%e3%82%b0%e3%83%a9%e3%83%a0%e3%83%9d
CATEGORIES:会員向けイベント
END:VEVENT
END:VCALENDAR